BEGIN:VCALENDAR
VERSION:2.0
PRODID:-//Neusole Glassworks - ECPv6.15.20//NONSGML v1.0//EN
CALSCALE:GREGORIAN
METHOD:PUBLISH
X-WR-CALNAME:Neusole Glassworks
X-ORIGINAL-URL:https://www.neusoleglassworks.com
X-WR-CALDESC:Events for Neusole Glassworks
REFRESH-INTERVAL;VALUE=DURATION:PT1H
X-Robots-Tag:noindex
X-PUBLISHED-TTL:PT1H
BEGIN:VTIMEZONE
TZID:America/New_York
BEGIN:DAYLIGHT
TZOFFSETFROM:-0500
TZOFFSETTO:-0400
TZNAME:EDT
DTSTART:20230312T070000
END:DAYLIGHT
BEGIN:STANDARD
TZOFFSETFROM:-0400
TZOFFSETTO:-0500
TZNAME:EST
DTSTART:20231105T060000
END:STANDARD
BEGIN:DAYLIGHT
TZOFFSETFROM:-0500
TZOFFSETTO:-0400
TZNAME:EDT
DTSTART:20240310T070000
END:DAYLIGHT
BEGIN:STANDARD
TZOFFSETFROM:-0400
TZOFFSETTO:-0500
TZNAME:EST
DTSTART:20241103T060000
END:STANDARD
BEGIN:DAYLIGHT
TZOFFSETFROM:-0500
TZOFFSETTO:-0400
TZNAME:EDT
DTSTART:20250309T070000
END:DAYLIGHT
BEGIN:STANDARD
TZOFFSETFROM:-0400
TZOFFSETTO:-0500
TZNAME:EST
DTSTART:20251102T060000
END:STANDARD
END:VTIMEZONE
BEGIN:VEVENT
DTSTART;TZID=America/New_York:20240602T100000
DTEND;TZID=America/New_York:20240602T170000
DTSTAMP:20260420T230125
CREATED:20240521T043936Z
LAST-MODIFIED:20240521T043936Z
UID:10014606-1717322400-1717347600@www.neusoleglassworks.com
SUMMARY:Four Swizzle Sticks
DESCRIPTION:Celebrate while making a set of four glass swizzle sticks\, for Father’s Day or any day. Great for cold or hot drinks. The class lasts up to one hour. $30 per set of four. Ages 12 and over. No experience needed. Approx 6.5’’ Call 513-751-3292\, or email neusoleglassworks@hotmail.com. Payment is due upon scheduling.
URL:https://www.neusoleglassworks.com/event/four-swizzle-sticks/2024-06-02/
LOCATION:Neusole Glassworks\, 11925 Kemper Springs\, Forest Park\, OH\, 45240\, United States
CATEGORIES:Flameworking
GEO:39.296405;-84.532537
X-APPLE-STRUCTURED-LOCATION;VALUE=URI;X-ADDRESS=Neusole Glassworks 11925 Kemper Springs Forest Park OH 45240 United States;X-APPLE-RADIUS=500;X-TITLE=11925 Kemper Springs:geo:-84.532537,39.296405
END:VEVENT
BEGIN:VEVENT
DTSTART;TZID=America/New_York:20240602T100000
DTEND;TZID=America/New_York:20240602T200000
DTSTAMP:20260420T230125
CREATED:20231111T044645Z
LAST-MODIFIED:20231111T044721Z
UID:10010387-1717322400-1717358400@www.neusoleglassworks.com
SUMMARY:Fused Holiday Ornaments
DESCRIPTION:An adorable snowman\, Santa belt\, and penguin ornaments. Now through the end of December – 3 ornaments. Approximately 4” round with drilled hole for hook. All ages are welcome\, no experience is needed. 3 Ornaments = $45. The class can take up to 1 hour. Call 513-751-3292 to reserve your time or email neusoleglassworks@hotmail.com. Payment is due upon scheduling. Items are available for pick-up in approximately one week.
URL:https://www.neusoleglassworks.com/event/fused-holiday-ornaments/2024-06-02/
LOCATION:Neusole Glassworks\, 11925 Kemper Springs\, Forest Park\, OH\, 45240\, United States
CATEGORIES:Fusing
GEO:39.296405;-84.532537
X-APPLE-STRUCTURED-LOCATION;VALUE=URI;X-ADDRESS=Neusole Glassworks 11925 Kemper Springs Forest Park OH 45240 United States;X-APPLE-RADIUS=500;X-TITLE=11925 Kemper Springs:geo:-84.532537,39.296405
END:VEVENT
BEGIN:VEVENT
DTSTART;TZID=America/New_York:20240602T100000
DTEND;TZID=America/New_York:20240602T200000
DTSTAMP:20260420T230125
CREATED:20240520T131512Z
LAST-MODIFIED:20240521T044009Z
UID:10013301-1717322400-1717358400@www.neusoleglassworks.com
SUMMARY:Father's Day Rocks Glasses
DESCRIPTION:Celebrate Dad’s Day (or any day) in our hotshop making two rocks glasses. With the help of our professional glassblowers\, you will blow the glass from hot\, molten glass. This will take approximately 45 minutes. \nCall for reservations at 513-751-3292 or email neusoleglassworks@hotmail.com to schedule. Must be 5 years or older\, $50 per person. Ready for pick-up in approx 7 days. Payment is due at the time of scheduling. Now through the end of June.
URL:https://www.neusoleglassworks.com/event/fathers-day-rocks-glasses/2024-06-02/
LOCATION:Neusole Glassworks\, 11925 Kemper Springs\, Forest Park\, OH\, 45240\, United States
CATEGORIES:Glassblowing
GEO:39.296405;-84.532537
X-APPLE-STRUCTURED-LOCATION;VALUE=URI;X-ADDRESS=Neusole Glassworks 11925 Kemper Springs Forest Park OH 45240 United States;X-APPLE-RADIUS=500;X-TITLE=11925 Kemper Springs:geo:-84.532537,39.296405
END:VEVENT
BEGIN:VEVENT
DTSTART;TZID=America/New_York:20240602T100000
DTEND;TZID=America/New_York:20240602T200000
DTSTAMP:20260420T230125
CREATED:20240529T203625Z
LAST-MODIFIED:20240529T203625Z
UID:10014631-1717322400-1717358400@www.neusoleglassworks.com
SUMMARY:Fish Magnets
DESCRIPTION:Now through the end of June\, create Fish Magnets in our fusing class. Approx: 3” x 3”\, varying with design. All ages are welcome\, no experience is needed — three (3) magnets for $45\, up to one hour class. Call 513-751-3292 to reserve your time or email neusoleglassworks@hotmail.com. Payment is due upon scheduling. Items are available for pick up in approximately two weeks.
URL:https://www.neusoleglassworks.com/event/fish-magnets/2024-06-02/
LOCATION:Neusole Glassworks\, 11925 Kemper Springs\, Forest Park\, OH\, 45240\, United States
CATEGORIES:Fusing
GEO:39.296405;-84.532537
X-APPLE-STRUCTURED-LOCATION;VALUE=URI;X-ADDRESS=Neusole Glassworks 11925 Kemper Springs Forest Park OH 45240 United States;X-APPLE-RADIUS=500;X-TITLE=11925 Kemper Springs:geo:-84.532537,39.296405
END:VEVENT
END:VCALENDAR